BEGIN:VCALENDAR
VERSION:2.0
PRODID:-//Volt Europa//Events//EN
CALSCALE:GREGORIAN
METHOD:PUBLISH
BEGIN:VEVENT
UID:enschede-ledenberaad-1697130000@voltnederland.org
DTSTAMP:20260423T101915Z
DTSTART;TZID=Europe/Amsterdam:20231012T190000
DTEND;TZID=Europe/Amsterdam:20231012T210000
SUMMARY:Enschede - Ledenberaad
DESCRIPTION:
LOCATION:Buurthuis Beien
URL:https://voltnederland.org/agenda/enschede-ledenberaad
END:VEVENT
END:VCALENDAR
