BEGIN:VCALENDAR
VERSION:2.0
PRODID:-//Volt Europa//Events//EN
CALSCALE:GREGORIAN
METHOD:PUBLISH
BEGIN:VEVENT
UID:enschede-kickoff-grv-2026-1731002400@voltnederland.org
DTSTAMP:20260423T142209Z
DTSTART;TZID=Europe/Amsterdam:20241107T190000
DTEND;TZID=Europe/Amsterdam:20241107T220000
SUMMARY:Enschede Kickoff GRV 2026
DESCRIPTION:Wie: Volt leden en geinteresseerden Wat: Aftrap voorbereidingen
  voor deelname GRV Waar: Buurthuis Beien\, Meeuwenstraat 160 Wanneer: 7 nov
  van 19:00 tot 22:00 Volt is in Enschede al vertegenwoordigd in de gemeente
 \, maar dit willen we natuurlijk graag voortzetten in 2026. Hiervoor hebben
  we nieuwe enthousiaste mensen nodig. Wil jij helpen met flyeren\, beleid s
 chrijven\, of je misschien zelfs verkiesbaar stellen? Deze avond is de kick
 off voor de voorbereidingen. We gaan het hebben over wat ons te do
LOCATION:Buurthuis Beien
URL:https://voltnederland.org/overijssel/agenda/enschede-kickoff-grv-2026
END:VEVENT
END:VCALENDAR
