BEGIN:VCALENDAR
VERSION:2.0
PRODID:-//Volt Europa//Events//EN
CALSCALE:GREGORIAN
METHOD:PUBLISH
BEGIN:VEVENT
UID:enschede-beraad-democratische-vernieuwing-dag-2-1698940800@voltnederlan
 d.org
DTSTAMP:20260423T102102Z
DTSTART;TZID=Europe/Amsterdam:20231102T170000
DTEND;TZID=Europe/Amsterdam:20231102T210000
SUMMARY:Enschede - Beraad Democratische Vernieuwing - dag 2
DESCRIPTION:De tweede dag van het beraad staat in het teken van de delibere
 rende fase\, oftewel tijd voor een open\, vrij en contructief gesprek over 
 de uitdagingen rondom het probleem. Deelnemers zullen met elkaar in gesprek
  gaan\, telkens in verschillende groepen en onder begeleiding van een gespr
 eksleider/notulist. Mocht je je niet op tijd hebben opgegeven om mee te kun
 nen doen\, alles wordt ook gedeeld via de website om alles zo transparant e
 n open mogelijk te houden. Ook vragen van buitenaf worden gewaarde
LOCATION:Buurthuis Beien Enschede
URL:https://voltnederland.org/agenda/enschede-beraad-democratische-vernieuw
 ing-dag-2
END:VEVENT
END:VCALENDAR
