BEGIN:VCALENDAR
VERSION:2.0
PRODID:-//Volt Europa//Events//EN
CALSCALE:GREGORIAN
METHOD:PUBLISH
BEGIN:VEVENT
UID:eindhoven-zomeravond-meet-up-zuid-oost-brabant-1691602200@voltnederland
 .org
DTSTAMP:20260423T114246Z
DTSTART;TZID=Europe/Amsterdam:20230809T193000
DTEND;TZID=Europe/Amsterdam:20230809T213000
SUMMARY:Eindhoven - zomeravond meet-up Zuid-Oost Brabant
DESCRIPTION:
LOCATION:Eindhoven - Stadswandelpark
URL:https://voltnederland.org/agenda/eindhoven-zomeravond-meet-up-zuid-oost
 -brabant
END:VEVENT
END:VCALENDAR
