BEGIN:VCALENDAR
VERSION:2.0
PRODID:-//Volt Europa//Events//EN
CALSCALE:GREGORIAN
METHOD:PUBLISH
BEGIN:VEVENT
UID:eindhoven-zomer-meet-up-in-het-park-summer-meet-up-juli2026-1783531800@
 voltnederland.org
DTSTAMP:20260425T233058Z
DTSTART;TZID=Europe/Amsterdam:20260708T193000
DTEND;TZID=Europe/Amsterdam:20260708T213000
SUMMARY:Eindhoven - Zomer meet-up in het park - Summer meet-up
DESCRIPTION:Iedere tweede woensdag van de maand organiseert Volt Zuidoost-B
 rabant een meet-up voor leden en geïnteresseerden. En in de zomer gaan we 
 gewoon door! Inloop vanaf 19.30 uur.  Start programma om 20 uur.  De meet-u
 p van 8 juli 2026 is puur voor de gezelligheid. Er is geen vaststaand progr
 amma\, neem een jeu-de-boules set mee\, een klapstoeltje\, wat drinken en p
 raat bij met andere Volt leden.  Bij slecht weer wijken we uit naar een loc
 atie binnen.  Houd onze social media of app-groep dan in de gaten.
LOCATION:Eindhoven\, Stadswandelpark bij het Radiomonument\, 5615EB  Eindho
 ven
URL:https://voltnederland.org/agenda/eindhoven-zomer-meet-up-in-het-park-su
 mmer-meet-up-juli2026
END:VEVENT
END:VCALENDAR
