BEGIN:VCALENDAR
VERSION:2.0
PRODID:-//Volt Europa//Events//EN
CALSCALE:GREGORIAN
METHOD:PUBLISH
BEGIN:VEVENT
UID:eindhoven-zomer-meet-up-in-het-park-summer-meet-up-augustus-1755106200@
 voltnederland.org
DTSTAMP:20260423T114847Z
DTSTART;TZID=Europe/Amsterdam:20250813T193000
DTEND;TZID=Europe/Amsterdam:20250813T213000
SUMMARY:Eindhoven - Zomer meet-up in het park - Summer meet-up
DESCRIPTION:Iedere tweede woensdag van de maand organiseert Volt Zuidoost-B
 rabant een meet-up voor leden en geïnteresseerden.  Inloop vanaf 19.30 uur
 .  Start programma om 20 uur.  De meet-up van 13 augustus 2025 is puur voor
  de gezelligheid. Er is geen vaststaand programma\, neem een jeu-de-boules 
 set mee\, een klapstoeltje\, wat drinken en praat bij met andere Volt leden
 .  Bij slecht weer wijken we uit naar een locatie binnen.  Houd onze social
  media of app-groep dan in de gaten. ----- Every second Wednesday 
LOCATION:Eindhoven\, Stadswandelpark\, bij het Radiomonument\, 5615EB  Eind
 hoven
URL:https://voltnederland.org/agenda/eindhoven-zomer-meet-up-in-het-park-su
 mmer-meet-up-augustus
END:VEVENT
END:VCALENDAR
