BEGIN:VCALENDAR
VERSION:2.0
PRODID:-//Volt Europa//Events//EN
CALSCALE:GREGORIAN
METHOD:PUBLISH
BEGIN:VEVENT
UID:eindhoven-volt-europa-meets-volt-eindhoven-1699624800@voltnederland.org
DTSTAMP:20260423T102051Z
DTSTART;TZID=Europe/Amsterdam:20231110T150000
DTEND;TZID=Europe/Amsterdam:20231110T173000
SUMMARY:Eindhoven - Volt Europa meets Volt Eindhoven
DESCRIPTION:Tijdens het Glow campagne weekend komen Volt leden uit Duitslan
 d en België ons helpen met de campagne activiteiten. Voorafgaand organiser
 en we op vrijdagmiddag 10 november 2023 om 15 uur een Europe meets Eindhove
 n presentatie op het stadhuis van Eindhoven.  Volt gemeenteraadsleden Jacco
  Rubenkamp en Inge Teklenburg zullen vertellen over hun werk in de gemeente
 raad. Na de introductie over Eindhoven zullen we stilstaan bij best practic
 es uit Europa. Wat kunnen we van elkaar leren op lokaal en Euro
LOCATION:Eindhoven - Raadzaal Stadhuis - Stadhuisplein\, 5611EM  Eindhoven
URL:https://voltnederland.org/agenda/eindhoven-volt-europa-meets-volt-eindh
 oven
END:VEVENT
END:VCALENDAR
