BEGIN:VCALENDAR
VERSION:2.0
PRODID:-//Volt Europa//Events//EN
CALSCALE:GREGORIAN
METHOD:PUBLISH
BEGIN:VEVENT
UID:eindhoven-stationsgebied-2045-vr-rondleiding-knoop-xl-1742043600@voltne
 derland.org
DTSTAMP:20260423T114254Z
DTSTART;TZID=Europe/Amsterdam:20250315T140000
DTEND;TZID=Europe/Amsterdam:20250315T160000
SUMMARY:Eindhoven: Stationsgebied 2045 - VR rondleiding - Knoop XL
DESCRIPTION:Op zaterdagmiddag 15 maart krijgen we een kijkje in de toekomst
  van Eindhoven. In het stationsgebied worden de komende 20 jaar 9.000 wonin
 gen voor 16.000 inwoners gerealiseerd. De Fellenoord wordt omgebouwd tot ee
 n groene boulevard en daarnaast verdwijnt het busstation ondergronds. Aan d
 e oostkant van het station wordt de natuurfunctie van de Dommel sterker uit
 gebouwd\, zodat daar een parkachtig landschap ontstaat. Tijdens een special
 e presentatie voor Volt en rondleiding in het gebied gaan we zi
LOCATION:Eindhoven\, Voormalig VVV kantoor\,  Stationsplein 17\, 5611 AC Ei
 ndhoven
URL:https://voltnederland.org/agenda/eindhoven-stationsgebied-2045-vr-rondl
 eiding-knoop-xl
END:VEVENT
END:VCALENDAR
