BEGIN:VCALENDAR
VERSION:2.0
PRODID:-//Volt Europa//Events//EN
CALSCALE:GREGORIAN
METHOD:PUBLISH
BEGIN:VEVENT
UID:eindhoven-start-campagne-grv26-1770834600@voltnederland.org
DTSTAMP:20260423T211011Z
DTSTART;TZID=Europe/Amsterdam:20260211T193000
DTEND;TZID=Europe/Amsterdam:20260211T213000
SUMMARY:Eindhoven: Start campagne GRV26
DESCRIPTION:Iedere 2e woensdag van de maand vanaf 19.30 uur is er een Volt 
 meet-up in Eindhoven.  In februari staan we uitgebreid stil bij de verkiezi
 ngscampagne voor gemeenteraad van Eindhoven. Natuurlijk zijn er ook veel ka
 ndidaten aanwezig. Daarnaast is er ook Volt nieuws uit de rest van Europa. 
 Het programma start om 20 uur\; en duurt tot 21.30 uur. Daarna kan er nog e
 en drankje worden gedaan en nagepraat. Introducees van harte welkom!  -----
 - Every second Wednesday of the month from 7:30 PM\, there's a V
LOCATION:Eindhoven\, Theaterzaal 't Rozenknopje - Hoogstraat 59\, 5615PA Ei
 ndhoven
URL:https://voltnederland.org/agenda/eindhoven-start-campagne-grv26
END:VEVENT
END:VCALENDAR
