BEGIN:VCALENDAR
VERSION:2.0
PRODID:-//Volt Europa//Events//EN
CALSCALE:GREGORIAN
METHOD:PUBLISH
BEGIN:VEVENT
UID:eindhoven-psv-vrouwen-tegen-feijenoord-1711287000@voltnederland.org
DTSTAMP:20260423T113948Z
DTSTART;TZID=Europe/Amsterdam:20240324T143000
DTEND;TZID=Europe/Amsterdam:20240324T163000
SUMMARY:Eindhoven - PSV Vrouwen tegen Feijenoord
DESCRIPTION:Na de internationale vrouwendag is het nu tijd voor vrouwenvoet
 bal! Op 24 maart om 14.30 uur speelt PSV Vrouwen tegen Feyenoord in het Phi
 lips stadion. Volt Zuidoost-Brabant heeft gratis kaartjes weten te scoren e
 n gaat in een paarse outfit alle rood witte vrouwen aanmoedigen! Heb je int
 eresse\, v/m/x ? Meld je zsm aan! (uiterlijk 14 maart ) ! bij Wyb Schuit op
  ( wyb.schuit@volteuropa.org ) 💜⚽️❤️🤍 ---- After Internationa
 l Women's Day\, it's now time for women's football! On March 24th at 2:30 p
 m\, 
LOCATION:Eindhoven\, Philips stadion
URL:https://voltnederland.org/agenda/eindhoven-psv-vrouwen-tegen-feijenoord
END:VEVENT
END:VCALENDAR
