BEGIN:VCALENDAR
VERSION:2.0
PRODID:-//Volt Europa//Events//EN
CALSCALE:GREGORIAN
METHOD:PUBLISH
BEGIN:VEVENT
UID:eindhoven-pride-parade-united-we-stand-1781348400@voltnederland.org
DTSTAMP:20260425T233332Z
DTSTART;TZID=Europe/Amsterdam:20260613T130000
DTEND;TZID=Europe/Amsterdam:20260613T170000
SUMMARY:Eindhoven: Pride Parade - United we stand
DESCRIPTION:Ook in 2026 is Volt Eindhoven weer van de partij bij de Eindhov
 en Pride. Het thema dit jaar is ‘United we stand’ en Volt loopt dit jaa
 r weer met een eigen groep mee in de Parade\, maar wel samen met andere pol
 itieke partijen. De sfeer? Energiek\, aanstekelijk\, een en al gezelligheid
  en een van de organisaties waar wij als Volt dolgraag onze steun aan wille
 n tonen. ----- Volt Eindhoven will be participating in Eindhoven Pride agai
 n in 2026. This year's theme is "United We Stand\," and Volt will once
LOCATION:Eindhoven: Stadhuisplein 1\, 5611EM  Eindhoven
URL:https://voltnederland.org/agenda/eindhoven-pride-parade-united-we-stand
END:VEVENT
END:VCALENDAR
