BEGIN:VCALENDAR
VERSION:2.0
PRODID:-//Volt Europa//Events//EN
CALSCALE:GREGORIAN
METHOD:PUBLISH
BEGIN:VEVENT
UID:eindhoven-peace-in-the-park-1694948400@voltnederland.org
DTSTAMP:20260423T142434Z
DTSTART;TZID=Europe/Amsterdam:20230917T130000
DTEND;TZID=Europe/Amsterdam:20230917T180000
SUMMARY:Eindhoven - Peace in the Park
DESCRIPTION:
LOCATION:Eindhoven - Anne Frankplantsoen
URL:https://voltnederland.org/agenda/eindhoven-peace-in-the-park
END:VEVENT
END:VCALENDAR
