BEGIN:VCALENDAR
VERSION:2.0
PRODID:-//Volt Europa//Events//EN
CALSCALE:GREGORIAN
METHOD:PUBLISH
BEGIN:VEVENT
UID:eindhoven-peace-in-the-park-infostand-1758452400@voltnederland.org
DTSTAMP:20260423T102218Z
DTSTART;TZID=Europe/Amsterdam:20250921T130000
DTEND;TZID=Europe/Amsterdam:20250921T170000
SUMMARY:Eindhoven: Peace in the Park - infostand
DESCRIPTION:Net als in voorgaande jaren staat Volt dit jaar weer met een in
 fostand op het Peace in the Park festival.  Het festival wil een caleidosco
 op bieden van projecten ter bevordering van de wereldvrede. De Europese sam
 enwerking is uiteindelijk een van de grootste vredesprojecten van afgelopen
  eeuw. De oorlog in Oekraine laat ons ook zien dat vrede geen vanzelfspreke
 nd iets is.  Kom langs om met ons kennis te maken. We kunnen alles vertelle
 n over de Volt 5+1 Challenges\, ons werk in de gemeenteraad van
LOCATION:Eindhoven\, Anne Frank Plantsoen\, Frederik van Eedenplein 167\, 5
 611 KT Eindhoven
URL:https://voltnederland.org/agenda/eindhoven-peace-in-the-park-infostand
END:VEVENT
END:VCALENDAR
