BEGIN:VCALENDAR
VERSION:2.0
PRODID:-//Volt Europa//Events//EN
CALSCALE:GREGORIAN
METHOD:PUBLISH
BEGIN:VEVENT
UID:eindhoven-peace-in-the-park-2024-1726995600@voltnederland.org
DTSTAMP:20260423T102134Z
DTSTART;TZID=Europe/Amsterdam:20240922T110000
DTEND;TZID=Europe/Amsterdam:20240922T170000
SUMMARY:Eindhoven - Peace in the Park
DESCRIPTION:Net als voorgaande jaren staat Volt dit jaar weer met een infos
 tand op het Peace in the Park festival.  Het festival wil een caleidoscoop 
 bieden van projecten ter bevordering van de wereldvrede. De Europese samenw
 erking is uiteindelijk een van de grootste vredesprojecten van afgelopen ee
 uw. De oorlog in Oekraine laat ons ook zien dat vrede geen vanzelfsprekend 
 iets is.  Kom langs om met ons kennis te maken. We kunnen alles vertellen o
 ver de Volt 5+1 Challenges\, ons werk in de gemeenteraad van Ei
LOCATION:Eindhoven\, Anne Frank plantsoen\, 5615GB Eindhoven
URL:https://voltnederland.org/agenda/eindhoven-peace-in-the-park-2024
END:VEVENT
END:VCALENDAR
