BEGIN:VCALENDAR
VERSION:2.0
PRODID:-//Volt Europa//Events//EN
CALSCALE:GREGORIAN
METHOD:PUBLISH
BEGIN:VEVENT
UID:eindhoven-park-meet-up-juli-2024-1720632600@voltnederland.org
DTSTAMP:20260423T144251Z
DTSTART;TZID=Europe/Amsterdam:20240710T193000
DTEND;TZID=Europe/Amsterdam:20240710T213000
SUMMARY:Eindhoven - Park meet-up juli 2024
DESCRIPTION:Iedere tweede woensdag van de maand organiseert Volt Zuidoost-B
 rabant een meet-up voor leden en geïnteresseerden. Inloop vanaf 19.30 uur.
  Start programma om 20 uur. De meet-up van 10 juli 2024 is puur voor de gez
 elligheid. Er is geen vaststaand programma\, neem een jeu-de-boules set mee
 \, een klapstoeltje\, wat drinken en praat even bij met andere Volt leden. 
 Bij slecht weer wijken we uit naar de theaterzaal van Cafe 't Rozenknopje\,
  Hoogstraat 59\, Eindhoven. ---- Every second Wednesday of the month
LOCATION:Eindhoven - Stadswandelpark - bij Radiomonument - Alberdink Thijml
 aan Eindhoven\, NB\, 5615 EB Netherlands
URL:https://voltnederland.org/brabant/agenda/eindhoven-park-meet-up-juli-20
 24
END:VEVENT
END:VCALENDAR
