BEGIN:VCALENDAR
VERSION:2.0
PRODID:-//Volt Europa//Events//EN
CALSCALE:GREGORIAN
METHOD:PUBLISH
BEGIN:VEVENT
UID:eindhoven-park-meet-up-augustus-2024-1723656600@voltnederland.org
DTSTAMP:20260422T083818Z
DTSTART;TZID=Europe/Amsterdam:20240814T193000
DTEND;TZID=Europe/Amsterdam:20240814T213000
SUMMARY:Eindhoven - Park meet-up augustus 2024
DESCRIPTION:Iedere tweede woensdag van de maand organiseert Volt Zuidoost-B
 rabant een meet-up voor leden en geïnteresseerden. Inloop vanaf 19.30 uur.
  Start programma om 20 uur. De meet-up van 14 augustus 2024 is puur voor de
  gezelligheid. Er is geen vaststaand programma\, neem een jeu-de-boules set
  mee\, een klapstoeltje\, wat drinken en praat even bij met andere Volt led
 en. Bij slecht weer wijken we uit naar de theaterzaal van cafe ’t Rozenkn
 opje\, Hoogstraat 59\, Eindhoven. ---- Every second Wednesday of the m
LOCATION:Eindhoven - Stadswandelpark - bij radiomonument - Alberdingk Thijm
 laan Eindhoven\, NB\, 5615 EB Netherlands
URL:https://voltnederland.org/brabant/agenda/eindhoven-park-meet-up-augustu
 s-2024
END:VEVENT
END:VCALENDAR
