BEGIN:VCALENDAR
VERSION:2.0
PRODID:-//Volt Europa//Events//EN
CALSCALE:GREGORIAN
METHOD:PUBLISH
BEGIN:VEVENT
UID:eindhoven-nieuwjaars-meet-up-1768415400@voltnederland.org
DTSTAMP:20260423T225236Z
DTSTART;TZID=Europe/Amsterdam:20260114T193000
DTEND;TZID=Europe/Amsterdam:20260114T213000
SUMMARY:Eindhoven: Nieuwjaars meet-up
DESCRIPTION:Iedere 2e woensdag van de maand vanaf 19.30 uur is er een Volt 
 meet-up in Eindhoven. In januari houden we onze nieuwjaarsbijeenkomst met e
 en vooruitblik naar 2026.  Daarnaast is er ook Volt nieuws uit Eindhoven en
  de rest van Europa. Het programma start om 20 uur\; en duurt tot 21.30 uur
 . Daarna kan er nog een drankje worden gedaan en nagepraat. Introducees van
  harte welkom! ------ Every second Wednesday of the month from 7:30 PM\, th
 ere's a Volt meet-up in Eindhoven. In January\, we'll have our ne
LOCATION:Eindhoven\, Theaterzaal 't Rozenknopje\, Hoogstraat 59\, 5615PA Ei
 ndhoven
URL:https://voltnederland.org/agenda/eindhoven-nieuwjaars-meet-up
END:VEVENT
END:VCALENDAR
