BEGIN:VCALENDAR
VERSION:2.0
PRODID:-//Volt Europa//Events//EN
CALSCALE:GREGORIAN
METHOD:PUBLISH
BEGIN:VEVENT
UID:eindhoven-meet-up-zuid-oost-brabant-1694626200@voltnederland.org
DTSTAMP:20260423T113924Z
DTSTART;TZID=Europe/Amsterdam:20230913T193000
DTEND;TZID=Europe/Amsterdam:20230913T213000
SUMMARY:Eindhoven - meet-up Zuid-Oost Brabant
DESCRIPTION:
LOCATION:Cafe 't Rozenknopje
URL:https://voltnederland.org/agenda/eindhoven-meet-up-zuid-oost-brabant
END:VEVENT
END:VCALENDAR
