BEGIN:VCALENDAR
VERSION:2.0
PRODID:-//Volt Europa//Events//EN
CALSCALE:GREGORIAN
METHOD:PUBLISH
BEGIN:VEVENT
UID:eindhoven-meet-up-september-2024-1726075800@voltnederland.org
DTSTAMP:20260423T102104Z
DTSTART;TZID=Europe/Amsterdam:20240911T193000
DTEND;TZID=Europe/Amsterdam:20240911T213000
SUMMARY:Eindhoven - meet-up september 2024
DESCRIPTION:Iedere tweede woensdag van de maand organiseert Volt Eindhoven 
 een meet-up. Alle Volt-leden uit Europa en geïnteresseerden zijn van harte
  welkom. Op woensdag 11 september is onze grote Rentree bij United Cowboys\
 , een unieke locatie in Eindhoven. Op het programma onder andere: Update va
 n onze Volt gemeenteraadsleden\, stand van zaken van ons Volt beleidsteam a
 ls aanloop voor de GRV2026\, vooruitblik op komende activiteiten\, nieuws u
 it Nederland en de rest van Europa. Inloop vanaf: 19.30 uur Start p
LOCATION:Eindhoven\, United Cowboys\,  Kleine Berg 62\, 5611 JW Eindhoven
URL:https://voltnederland.org/agenda/eindhoven-meet-up-september-2024
END:VEVENT
END:VCALENDAR
