BEGIN:VCALENDAR
VERSION:2.0
PRODID:-//Volt Europa//Events//EN
CALSCALE:GREGORIAN
METHOD:PUBLISH
BEGIN:VEVENT
UID:eindhoven-meet-up-oktober-meet-greet-the-volt-candidates-1697045400@vol
 tnederland.org
DTSTAMP:20260423T114340Z
DTSTART;TZID=Europe/Amsterdam:20231011T193000
DTEND;TZID=Europe/Amsterdam:20231011T213000
SUMMARY:Eindhoven - meet-up oktober - Meet & Greet the Volt candidates
DESCRIPTION:- English below -  Iedere tweede woensdag van de maand organise
 ert Volt Zuidoost-Brabant een meet-up voor leden en geïnteresseerden. Inlo
 op vanaf 19.30 uur. Start programma om 20 uur. Op woensdagavond 11 oktober 
 presenteren we de kandidaten uit Zuid-Nederland voor Volt in de Tweede Kame
 r.  Romy Frijters\, 25 jaar\, Maastricht\; Bjorn Beijnon\, 29 jaar\, Den Bo
 sch\;  Willem van Ewijk\,36 jaar\, Den Bosch en Valerie Pajak\, 30 jaar\, E
 indhoven. Daarnaast natuurlijk ook een update van de Volt fractie in Eind
LOCATION:Eindhoven - Cafe 't Rozenknopje 59 Hoogstraat Eindhoven\, NB\, 561
 5 P
URL:https://voltnederland.org/agenda/eindhoven-meet-up-oktober-meet-greet-t
 he-volt-candidates
END:VEVENT
END:VCALENDAR
