BEGIN:VCALENDAR
VERSION:2.0
PRODID:-//Volt Europa//Events//EN
CALSCALE:GREGORIAN
METHOD:PUBLISH
BEGIN:VEVENT
UID:eindhoven-meet-up-oktober-2024-diversiteit-en-inclusiviteit-1728495000@
 voltnederland.org
DTSTAMP:20260423T114306Z
DTSTART;TZID=Europe/Amsterdam:20241009T193000
DTEND;TZID=Europe/Amsterdam:20241009T213000
SUMMARY:Eindhoven - Meet-up oktober 2024 - Diversiteit en inclusiviteit
DESCRIPTION:Iedere tweede woensdag van de maand organiseert Volt Zuidoost-B
 rabant een meet-up voor leden en geïnteresseerden.   Inloop vanaf 19.3
 0 uur.  Start programma om 20 uur.   Het thema op woensdagavond 9 okt
 ober 2024 is het ´Diversiteit en inclusiviteit’. Benjamin Ector (voorzit
 ter van Pride Eindhoven en oud-voorzitter COC Eindhoven) en Ihab Laachir ge
 ven samen een interactieve lezing / Workshop. Dit is een breed onderwerp: v
 an sexuele voorkeur\, kleur\, gender en opleiding tot lichamelijke en geest
 eli
LOCATION:Eindhoven - Theaterzaal Cafe 't Rozenknopje\, Hoogstraat 59\, 5615
 PA  Eindhoven
URL:https://voltnederland.org/agenda/eindhoven-meet-up-oktober-2024-diversi
 teit-en-inclusiviteit
END:VEVENT
END:VCALENDAR
