BEGIN:VCALENDAR
VERSION:2.0
PRODID:-//Volt Europa//Events//EN
CALSCALE:GREGORIAN
METHOD:PUBLISH
BEGIN:VEVENT
UID:eindhoven-meet-up-november-2024-transitiedenken-en-doen-1731522600@volt
 nederland.org
DTSTAMP:20260423T114416Z
DTSTART;TZID=Europe/Amsterdam:20241113T193000
DTEND;TZID=Europe/Amsterdam:20241113T213000
SUMMARY:Eindhoven - Meet-up november 2024 - Transitiedenken en doen
DESCRIPTION:Iedere tweede woensdag van de maand organiseert Volt Zuidoost-B
 rabant een meet-up voor leden en geïnteresseerden. Inloop vanaf 19.30 uur.
  Start programma om 20 uur. Het thema op 13 november is “Sociale dynamiek
  bij grootschalige maatschappelijke veranderingen”. Jos Pieterse (onderzo
 eker bij Fontys Hogeschool in Eindhoven) verzorgt een interactieve lezing /
  workshop waarin hij ingaat op de sociale complexiteit van grote veranderin
 gen\, zoals bijvoorbeeld de energietransitie. Hij geeft een ander pe
LOCATION:Eindhoven - Theaterzaal Cafe 't Rozenknopje - Hoogstraat 59\, 5615
 PA  Eindhoven
URL:https://voltnederland.org/agenda/eindhoven-meet-up-november-2024-transi
 tiedenken-en-doen
END:VEVENT
END:VCALENDAR
