BEGIN:VCALENDAR
VERSION:2.0
PRODID:-//Volt Europa//Events//EN
CALSCALE:GREGORIAN
METHOD:PUBLISH
BEGIN:VEVENT
UID:eindhoven-meet-up-november-2023-1699468200@voltnederland.org
DTSTAMP:20260423T102134Z
DTSTART;TZID=Europe/Amsterdam:20231108T193000
DTEND;TZID=Europe/Amsterdam:20231108T213000
SUMMARY:Eindhoven - Meet-up november 2023
DESCRIPTION:- English below -  Iedere tweede woensdag van de maand organise
 ert Volt Zuidoost-Brabant een meet-up voor leden en geïnteresseerden. Inlo
 op vanaf 19.30 uur. Start programma om 20 uur. Op woensdagavond 8 november 
 bespreken we de stand van zaken in de Volt campagne voor de Tweede Kamer ve
 rkiezingen en kijken we vooruit naar de Volt General Assembly in Parijs. Da
 arnaast natuurlijk is er ook een update van de Volt fractie in Eindhoven en
  nieuws uit Europa. De meet up van Volt Zuidoost-Brabant is in 
LOCATION:Theaterzaal van café ‘t Rozenknopje\, Hoogstraat 59 te Eindhove
 n
URL:https://voltnederland.org/agenda/eindhoven-meet-up-november-2023
END:VEVENT
END:VCALENDAR
