BEGIN:VCALENDAR
VERSION:2.0
PRODID:-//Volt Europa//Events//EN
CALSCALE:GREGORIAN
METHOD:PUBLISH
BEGIN:VEVENT
UID:eindhoven-meet-up-maart-2024-europa-en-eerste-kamer-1710354600@voltnede
 rland.org
DTSTAMP:20260423T114440Z
DTSTART;TZID=Europe/Amsterdam:20240313T193000
DTEND;TZID=Europe/Amsterdam:20240313T213000
SUMMARY:Eindhoven - Meet-up maart 2024 - Europa en Eerste Kamer
DESCRIPTION:- English below -  Iedere tweede woensdag van de maand organise
 ert Volt Zuidoost-Brabant een meet-up voor leden en geïnteresseerden. Inlo
 op vanaf 19.30 uur. Start programma om 20 uur. Op woensdagavond 13 maart he
 bben we als gastspreker Eddy Hartog\, senator voor Volt in de Eerste Kamer.
  Eddy heeft jarenlang gewerkt in Brussel en slaat daarmee een mooie brug tu
 ssen Europa en Nederland. Daarnaast natuurlijk is er ook een update van de 
 Volt fractie in Eindhoven en nieuws van Volt Europa. De meet up 
LOCATION:Eindhoven - Theaterzaal 't Rozenknopje\, Hoogstraat 59\, 5615PA  E
 indhoven
URL:https://voltnederland.org/agenda/eindhoven-meet-up-maart-2024-europa-en
 -eerste-kamer
END:VEVENT
END:VCALENDAR
