BEGIN:VCALENDAR
VERSION:2.0
PRODID:-//Volt Europa//Events//EN
CALSCALE:GREGORIAN
METHOD:PUBLISH
BEGIN:VEVENT
UID:eindhoven-meet-up-januari-2024-1704911400@voltnederland.org
DTSTAMP:20260423T143256Z
DTSTART;TZID=Europe/Amsterdam:20240110T193000
DTEND;TZID=Europe/Amsterdam:20240110T213000
SUMMARY:Eindhoven - meet-up januari 2024
DESCRIPTION:Iedere tweede woensdag van de maand organiseert Volt Zuidoost-B
 rabant een meet-up voor leden en geïnteresseerden. Inloop vanaf 19.30 uur.
  Start programma om 20 uur. Op woensdagavond 10 januari 2024 hebben we als 
 gastspreker Bram Kamp\, aspirant EP kandidaat voor Volt. Hij spreekt over z
 ijn motivatie\, ambities en doelstellingen. Natuurlijk is er daarnaast ook 
 een update van de Volt fractie in Eindhoven en nieuws van Volt Europa. De m
 eet up van Volt Zuidoost-Brabant is dit keer bij buurtcentrum Fab
LOCATION:Buurtcentrum Fab28\, Fabritiuslaan 28\, 5645 ES\, Eindhoven
URL:https://voltnederland.org/agenda/eindhoven-meet-up-januari-2024
END:VEVENT
END:VCALENDAR
