BEGIN:VCALENDAR
VERSION:2.0
PRODID:-//Volt Europa//Events//EN
CALSCALE:GREGORIAN
METHOD:PUBLISH
BEGIN:VEVENT
UID:eindhoven-meet-up-duurzame-mobiliteit-met-carlo-van-de-weijer-sustainab
 le-mobility-1702492200@voltnederland.org
DTSTAMP:20260423T120523Z
DTSTART;TZID=Europe/Amsterdam:20231213T193000
DTEND;TZID=Europe/Amsterdam:20231213T213000
SUMMARY:Eindhoven - Meet-up - Duurzame mobiliteit met Carlo van de Weijer -
  Sustainable mobility
DESCRIPTION:- English below - Iedere tweede woensdag van de maand organisee
 rt Volt Zuidoost Brabant een meet-up voor leden en geïnteresseerden. Inloo
 p vanaf 19.30 uur. Start programma om 20 uur. Op woensdag 13 december geeft
  Carlo van de Weijer\, general manager Eindhoven AI Systems Institute\, ver
 bonden aan de TU/e\, een interactieve presentatie over "Duurzame mobiliteit
 ".  Daarnaast ook een update van onze Volt fractie in Eindhoven\, terugblik
  op de Tweede Kamer verkiezingen en de GA in Parijs. ----- Every se
LOCATION:Café 't Rozenknopje\, Hoogstraat 59\, Eindhoven
URL:https://voltnederland.org/agenda/eindhoven-meet-up-duurzame-mobiliteit-
 met-carlo-van-de-weijer-sustainable-mobility
END:VEVENT
END:VCALENDAR
