BEGIN:VCALENDAR
VERSION:2.0
PRODID:-//Volt Europa//Events//EN
CALSCALE:GREGORIAN
METHOD:PUBLISH
BEGIN:VEVENT
UID:eindhoven-light-up-your-pride-1717844400@voltnederland.org
DTSTAMP:20260423T101921Z
DTSTART;TZID=Europe/Amsterdam:20240608T130000
DTEND;TZID=Europe/Amsterdam:20240608T170000
SUMMARY:Eindhoven - Light up your Pride!
DESCRIPTION:Ook in 2024 is Volt Zuidoost-Brabant weer van de partij bij Ein
 dhoven Pride. Het thema dit jaar is: Light up your pride! En Volt loopt dit
  jaar mee met een eigen groep in de Parade. Wil je meelopen\, meld je dan a
 an bij ons events-team. https://forms.gle/JP8GrKWmZB8GoVeB7 ---- Volt Zuido
 ost-Brabant will again be participating in Eindhoven Pride in 2024. The the
 me this year is: Light up your pride! And Volt will be participating in the
  Parade with its own group this year. If you would like to part
LOCATION:Eindhoven - Stationsplein
URL:https://voltnederland.org/agenda/eindhoven-light-up-your-pride
END:VEVENT
END:VCALENDAR
