BEGIN:VCALENDAR
VERSION:2.0
PRODID:-//Volt Europa//Events//EN
CALSCALE:GREGORIAN
METHOD:PUBLISH
BEGIN:VEVENT
UID:eindhoven-kerst-meet-up-x-mas-meet-up-1733941800@voltnederland.org
DTSTAMP:20260423T114049Z
DTSTART;TZID=Europe/Amsterdam:20241211T193000
DTEND;TZID=Europe/Amsterdam:20241211T213000
SUMMARY:Eindhoven - Kerst meet-up - X-mas meet-up
DESCRIPTION:Iedere tweede woensdag van de maand organiseert Volt Zuidoost-B
 rabant een meet-up voor leden en geïnteresseerden. Inloop vanaf 19.30 uur.
  Start programma om 20 uur. Het thema op woensdagavond 11 december 2024 is 
 Vrede / verbinding / kerstgedachte. Vertegenwoordigers van Amnesty\, Eindho
 ven in Dialoog\, Europe Direct\, Humanistisch verbond en Internationale Sch
 ool Eindhoven gaan over dit thema het gesprek aan.  Daarnaast zoals altijd 
 een update van onze Volt raadsleden in de gemeenteraad van Eindhov
LOCATION:Theaterzaal boven cafe 't Rozenknopje\, Hoogstraat 59\, 5615PA Ein
 dhoven
URL:https://voltnederland.org/agenda/eindhoven-kerst-meet-up-x-mas-meet-up
END:VEVENT
END:VCALENDAR
