BEGIN:VCALENDAR
VERSION:2.0
PRODID:-//Volt Europa//Events//EN
CALSCALE:GREGORIAN
METHOD:PUBLISH
BEGIN:VEVENT
UID:eindhoven-intromeeting-nieuwe-leden-new-members-1697043600@voltnederlan
 d.org
DTSTAMP:20260423T114226Z
DTSTART;TZID=Europe/Amsterdam:20231011T190000
DTEND;TZID=Europe/Amsterdam:20231011T193000
SUMMARY:Eindhoven - intromeeting nieuwe leden / new members
DESCRIPTION:- English below -  Speciaal voor nieuwe Volt leden en geïntere
 sseerden organiseren we een Volt introductie meeting. De volgende onderwerp
 en komen aan de orde: - Wat is Volt? - Waarom is Volt opgericht en geschied
 enis? - De ambities van Volt - De Volt 5+1 Challenges - Volt in heel Europa
  Ook overige geïnteresseerden van harte welkom! De reguliere meet-up van V
 olt Zuid-Oost Brabant start direct na deze introductie. ---- We organize an
  introduction meeting especially for new Volt members and other 
LOCATION:Eindhoven - theaterzaal 't Rozenknopje\, Hoogstraat 59\, 5615PA Ei
 ndhoven
URL:https://voltnederland.org/agenda/eindhoven-intromeeting-nieuwe-leden-ne
 w-members
END:VEVENT
END:VCALENDAR
