BEGIN:VCALENDAR
VERSION:2.0
PRODID:-//Volt Europa//Events//EN
CALSCALE:GREGORIAN
METHOD:PUBLISH
BEGIN:VEVENT
UID:eindhoven-intromeeting-nieuwe-leden-new-members-3-2024-1710352800@voltn
 ederland.org
DTSTAMP:20260423T114339Z
DTSTART;TZID=Europe/Amsterdam:20240313T190000
DTEND;TZID=Europe/Amsterdam:20240313T193000
SUMMARY:Eindhoven - Intromeeting nieuwe leden - new members
DESCRIPTION:Speciaal voor nieuwe Volt leden en geïnteresseerden organisere
 n we een Volt introductie meeting.  De volgende onderwerpen komen aan de or
 de:  - Wat is Volt?  - Waarom is Volt opgericht en geschiedenis?  - De ambi
 ties van Volt  - De Volt 5+1 Challenges  - Volt in heel Europa  - Wat kun j
 ij doen bij Volt? Ook overige geïnteresseerden van harte welkom!  De regul
 iere meet-up van Volt Zuidoost-Brabant start direct na deze introductie.  -
 ---  We organize an introduction meeting especially for new Volt
LOCATION:Eindhoven - Theaterzaal 't Rozenknopje\, Hoogstraat 59\, 5615PA  E
 INDHOVEN
URL:https://voltnederland.org/agenda/eindhoven-intromeeting-nieuwe-leden-ne
 w-members-3-2024
END:VEVENT
END:VCALENDAR
