BEGIN:VCALENDAR
VERSION:2.0
PRODID:-//Volt Europa//Events//EN
CALSCALE:GREGORIAN
METHOD:PUBLISH
BEGIN:VEVENT
UID:eindhoven-introductie-nieuwe-leden-introduction-new-members-1694624400@
 voltnederland.org
DTSTAMP:20260423T113947Z
DTSTART;TZID=Europe/Amsterdam:20230913T190000
DTEND;TZID=Europe/Amsterdam:20230913T193000
SUMMARY:Eindhoven - introductie nieuwe leden - introduction new members
DESCRIPTION:
LOCATION:Eindhoven - Cafe 't Rozenknopje
URL:https://voltnederland.org/agenda/eindhoven-introductie-nieuwe-leden-int
 roduction-new-members
END:VEVENT
END:VCALENDAR
