BEGIN:VCALENDAR
VERSION:2.0
PRODID:-//Volt Europa//Events//EN
CALSCALE:GREGORIAN
METHOD:PUBLISH
BEGIN:VEVENT
UID:eindhoven-intro-nieuwe-leden-new-members-1704911400@voltnederland.org
DTSTAMP:20260423T114049Z
DTSTART;TZID=Europe/Amsterdam:20240110T193000
DTEND;TZID=Europe/Amsterdam:20240110T200000
SUMMARY:Eindhoven - Intro nieuwe leden / new members
DESCRIPTION:Speciaal voor nieuwe Volt leden en geïnteresseerden organisere
 n we een Volt introductie meeting.  De volgende onderwerpen komen aan de or
 de:  - Wat is Volt?  - Waarom is Volt opgericht en geschiedenis?  - De ambi
 ties van Volt  - De Volt 5+1 Challenges  - Volt in heel Europa  - Wat kun j
 ij doen bij Volt? Ook overige geïnteresseerden van harte welkom!  De regul
 iere meet-up van Volt Zuid-Oost Brabant start direct na deze introductie.  
 ----  We organize an introduction meeting especially for new Vol
LOCATION:Buurtcentrum Fab 28\, Fabritiuslaan 28\, 5645 ES Eindhoven
URL:https://voltnederland.org/agenda/eindhoven-intro-nieuwe-leden-new-membe
 rs
END:VEVENT
END:VCALENDAR
