BEGIN:VCALENDAR
VERSION:2.0
PRODID:-//Volt Europa//Events//EN
CALSCALE:GREGORIAN
METHOD:PUBLISH
BEGIN:VEVENT
UID:eindhoven-intro-meeting-nieuwe-leden-new-members-1718211600@voltnederla
 nd.org
DTSTAMP:20260423T114254Z
DTSTART;TZID=Europe/Amsterdam:20240612T190000
DTEND;TZID=Europe/Amsterdam:20240612T193000
SUMMARY:Eindhoven - Intro meeting nieuwe leden - new members
DESCRIPTION:Speciaal voor nieuwe Volt leden en geïnteresseerden organisere
 n we een Volt introductie meeting. De volgende onderwerpen komen aan de ord
 e: - Wat is Volt? - Waarom is Volt opgericht en geschiedenis? - De ambities
  van Volt - De Volt 5+1 Challenges - Volt in heel Europa Ook overige geïnt
 eresseerden van harte welkom! De reguliere meet-up van Volt Zuidoost-Braban
 t start direct na deze introductie. ---- We organize an introduction meetin
 g especially for new Volt members and other interested people.  
LOCATION:Eindhoven - Theaterzaal Cafe 't Rozenknopje - Hoogstraat 59
URL:https://voltnederland.org/agenda/eindhoven-intro-meeting-nieuwe-leden-n
 ew-members
END:VEVENT
END:VCALENDAR
