BEGIN:VCALENDAR
VERSION:2.0
PRODID:-//Volt Europa//Events//EN
CALSCALE:GREGORIAN
METHOD:PUBLISH
BEGIN:VEVENT
UID:eindhoven-inloopspreekuur-volt-fractie-meet-the-volt-fraction-1-1-16984
 08000@voltnederland.org
DTSTAMP:20260423T114442Z
DTSTART;TZID=Europe/Amsterdam:20231027T140000
DTEND;TZID=Europe/Amsterdam:20231027T170000
SUMMARY:Eindhoven - inloopspreekuur Volt fractie - meet the Volt fraction
DESCRIPTION:_English below Iedere vrijdagmiddag houdt de Volt fractie in de
  gemeenteraad van Eindhoven een inloop spreekuur. Wil je met ons kennis mak
 en? Of even bijpraten over een bepaald onderwerp? Kom bij ons langs! In ver
 band met aanmelding op het stadhuis wel graag uiterlijk 20 uur de donderdag
  ervoor een bericht naar: jacco.rubenkamp@eindhoven.nl Every Friday afterno
 on the Volt fraction holds a walk-in consultation hour in the Eindhoven cit
 y council. Would you like to meet us? Or would you like to cat
LOCATION:Eindhoven - Stadhuis
URL:https://voltnederland.org/agenda/eindhoven-inloopspreekuur-volt-fractie
 -meet-the-volt-fraction-1-1
END:VEVENT
END:VCALENDAR
