BEGIN:VCALENDAR
VERSION:2.0
PRODID:-//Volt Europa//Events//EN
CALSCALE:GREGORIAN
METHOD:PUBLISH
BEGIN:VEVENT
UID:eindhoven-inloopspreekuur-volt-fractie-meet-the-fraction-1695384000@vol
 tnederland.org
DTSTAMP:20260423T114339Z
DTSTART;TZID=Europe/Amsterdam:20230922T140000
DTEND;TZID=Europe/Amsterdam:20230922T160000
SUMMARY:Eindhoven - inloopspreekuur Volt fractie - meet the Volt fraction
DESCRIPTION:- English below Iedere vrijdagmiddag houdt de Volt fractie in d
 e gemeenteraad van Eindhoven een inloop spreekuur. Wil je met ons kennis ma
 ken? Of even bijpraten over een bepaald onderwerp? Kom bij ons langs! In ve
 rband met aanmelding op het stadhuis wel graag uiterlijk 20 uur de donderda
 g ervoor een bericht naar: jacco.rubenkamp@eindhoven.nl  ---- Every Friday 
 afternoon the Volt fraction holds a walk-in consultation hour in the Eindho
 ven city council. Would you like to meet us? Or would you like
LOCATION:Eindhoven - Stadhuis - Townhall 1 Stadhuisplein Eindhoven\, NB\, 5
 611 EM
URL:https://voltnederland.org/agenda/eindhoven-inloopspreekuur-volt-fractie
 -meet-the-fraction
END:VEVENT
END:VCALENDAR
