BEGIN:VCALENDAR
VERSION:2.0
PRODID:-//Volt Europa//Events//EN
CALSCALE:GREGORIAN
METHOD:PUBLISH
BEGIN:VEVENT
UID:eindhoven-inloopspreekuur-meet-the-volt-fraction-maart-1709902800@voltn
 ederland.org
DTSTAMP:20260423T131247Z
DTSTART;TZID=Europe/Amsterdam:20240308T140000
DTEND;TZID=Europe/Amsterdam:20240308T160000
SUMMARY:Eindhoven - Inloopspreekuur - meet the Volt fraction - maart
DESCRIPTION:Iedere vrijdagmiddag houdt de Volt fractie in de gemeenteraad v
 an Eindhoven een inloop spreekuur.  Wil je met ons kennis maken? Of even bi
 jpraten over een bepaald onderwerp? Kom bij ons langs! In verband met aanme
 lding op het stadhuis wel graag uiterlijk 20 uur de donderdag ervoor een be
 richt naar: jacco.rubenkamp@eindhoven.nl  ---- Every Friday afternoon the V
 olt fraction holds a walk-in consultation hour in the Eindhoven city counci
 l.  Would you like to meet us? Or would you like to catch up o
LOCATION:Eindhoven - Fractiekamer stadhuis - Stadhuisplein 1\, 5611EM  EIND
 HOVEN
URL:https://voltnederland.org/agenda/eindhoven-inloopspreekuur-meet-the-vol
 t-fraction-maart
END:VEVENT
END:VCALENDAR
