BEGIN:VCALENDAR
VERSION:2.0
PRODID:-//Volt Europa//Events//EN
CALSCALE:GREGORIAN
METHOD:PUBLISH
BEGIN:VEVENT
UID:eindhoven-inloopspreekuur-meet-the-volt-fraction-februari-1706878800@vo
 ltnederland.org
DTSTAMP:20260423T114306Z
DTSTART;TZID=Europe/Amsterdam:20240202T140000
DTEND;TZID=Europe/Amsterdam:20240202T160000
SUMMARY:Eindhoven - Inloopspreekuur - meet the Volt fraction - februari
DESCRIPTION:Iedere vrijdagmiddag houdt de Volt fractie in de gemeenteraad v
 an Eindhoven een inloop spreekuur.  Wil je met ons kennis maken? Of even bi
 jpraten over een bepaald onderwerp? Kom bij ons langs! In verband met aanme
 lding op het stadhuis wel graag uiterlijk 20 uur de donderdag ervoor een be
 richt naar: jacco.rubenkamp@eindhoven.nl  ---- Every Friday afternoon the V
 olt fraction holds a walk-in consultation hour in the Eindhoven city counci
 l.  Would you like to meet us? Or would you like to catch up o
LOCATION:Eindhoven - Fractiekamer stadhuis - Stadhuisplein 1\, 5611EM  EIND
 HOVEN
URL:https://voltnederland.org/agenda/eindhoven-inloopspreekuur-meet-the-vol
 t-fraction-februari
END:VEVENT
END:VCALENDAR
