BEGIN:VCALENDAR
VERSION:2.0
PRODID:-//Volt Europa//Events//EN
CALSCALE:GREGORIAN
METHOD:PUBLISH
BEGIN:VEVENT
UID:eindhoven-infomarkt-tu-e-introweek-1692691200@voltnederland.org
DTSTAMP:20260423T101945Z
DTSTART;TZID=Europe/Amsterdam:20230822T100000
DTEND;TZID=Europe/Amsterdam:20230822T110000
SUMMARY:Eindhoven - infomarkt TU/e introweek
DESCRIPTION:_English below_Volt Zuid-Oost Brabant staat met een infostand o
 p de introweek van de TU/e. Nieuwe en bestaande studenten kunnen bij ons la
 ngslopen. Natuurlijk gaan we ook iets ludieks waarbij een originele Volt pr
 ijs kunt winnen.Heb je vragen of wil je met Volt kennismaken\, kom zeker ev
 en langs!---Volt South-East Brabant has an information stand at the introwe
 ek of TU/e. New and existing students can visit us. Of course we will also 
 do something fun where you can win an original Volt prize.If yo
LOCATION:Eindhoven
URL:https://voltnederland.org/agenda/eindhoven-infomarkt-tu-e-introweek
END:VEVENT
END:VCALENDAR
