BEGIN:VCALENDAR
VERSION:2.0
PRODID:-//Volt Europa//Events//EN
CALSCALE:GREGORIAN
METHOD:PUBLISH
BEGIN:VEVENT
UID:eindhoven-grv26-beleid-policy-meet-up-1749663000@voltnederland.org
DTSTAMP:20260423T102134Z
DTSTART;TZID=Europe/Amsterdam:20250611T193000
DTEND;TZID=Europe/Amsterdam:20250611T213000
SUMMARY:Eindhoven: GRV26 Beleid - Policy meet-up
DESCRIPTION:Iedere tweede woensdag van de maand organiseert Volt Zuidoost-B
 rabant een meet-up voor leden en geïnteresseerden. Inloop vanaf 19.30 uur.
  Start programma om 20 uur. Formele einde en start borrel om 21.30 uur. De 
 meet-up van juni zal grotendeels in het teken staan van de hoofdlijnen van 
 het Volt beleid\, waarmee we de gemeenteraadsverkiezingen van 2026 in wille
 n gaan. Natuurlijk is de bijeenkomst ook interactief en gaan we in kleine g
 roepen aan de slag.  Daarnaast zoals altijd een update van onze 
LOCATION:Café ’t Rozenknopje\, Hoogstraat 59\, 5615PA Eindhoven
URL:https://voltnederland.org/agenda/eindhoven-grv26-beleid-policy-meet-up
END:VEVENT
END:VCALENDAR
