BEGIN:VCALENDAR
VERSION:2.0
PRODID:-//Volt Europa//Events//EN
CALSCALE:GREGORIAN
METHOD:PUBLISH
BEGIN:VEVENT
UID:eindhoven-gaby-perin-gopie-nieuwjaars-meet-up-newyears-meet-up-17363610
 00@voltnederland.org
DTSTAMP:20260423T114549Z
DTSTART;TZID=Europe/Amsterdam:20250108T193000
DTEND;TZID=Europe/Amsterdam:20250108T230000
SUMMARY:Eindhoven: Gaby Perin-Gopie - Nieuwjaars meet-up - Newyears meet-up
DESCRIPTION:Iedere tweede woensdag van de maand organiseert Volt Zuidoost-B
 rabant een meet-up voor leden en geïnteresseerden. Op woensdagavond 8 janu
 ari 2025 vieren we het nieuwjaar met Gaby Perin-Gopie\, onze Volt vertegenw
 oordiger in de Eerste Kamer. Zij zal in Eindhoven haar nieuwjaarstoespraak 
 houden. Ook onze Volt Eindhoven fractie- en commissieleden zijn aanwezig. I
 nloop vanaf 19.30 uur. Start programma om 20 uur. Later binnenlopen kan alt
 ijd\; we zijn er zeker tot 23 uur! De meet-up van Volt Zuidoost-B
LOCATION:Theaterzaal Café 't Rozenknopje - Hoogstraat 59\, 5615PA  Eindhov
 en
URL:https://voltnederland.org/agenda/eindhoven-gaby-perin-gopie-nieuwjaars-
 meet-up-newyears-meet-up
END:VEVENT
END:VCALENDAR
