BEGIN:VCALENDAR
VERSION:2.0
PRODID:-//Volt Europa//Events//EN
CALSCALE:GREGORIAN
METHOD:PUBLISH
BEGIN:VEVENT
UID:eindhoven-fietsen-lichtjesroute-cycling-the-lichtjesroute-1727546400@vo
 ltnederland.org
DTSTAMP:20260423T114415Z
DTSTART;TZID=Europe/Amsterdam:20240928T200000
DTEND;TZID=Europe/Amsterdam:20240928T223000
SUMMARY:Eindhoven - Fietsen Lichtjesroute - Cycling the Lichtjesroute
DESCRIPTION:Volt Zuidoost Brabant gaat op 28 september 2024 in Eindhoven in
  een of meerdere groepen de Lichtjesroute fietsen.  De Lichtjesroute is ont
 staan om de bevrijding van Eindhoven in 1944 te herdenken. Het is een 22 ki
 lometer lang\, met elektrische ornamenten verlicht traject\, door de stad E
 indhoven. De gekleurde lampen branden vanaf 18 september tot de tweede zond
 ag in oktober. De Lichtjesroute is gelegen op de openbare weg\, vertrekken 
 kan op elk willekeurig punt en alles voor iedereen gratis toegank
LOCATION:Eindhoven\, 18 Septemberplein\, 5612AZ  Eindhoven
URL:https://voltnederland.org/agenda/eindhoven-fietsen-lichtjesroute-cyclin
 g-the-lichtjesroute
END:VEVENT
END:VCALENDAR
