BEGIN:VCALENDAR
VERSION:2.0
PRODID:-//Volt Europa//Events//EN
CALSCALE:GREGORIAN
METHOD:PUBLISH
BEGIN:VEVENT
UID:eindhoven-european-campaign-train-to-maastricht-1716714900@voltnederlan
 d.org
DTSTAMP:20260423T114135Z
DTSTART;TZID=Europe/Amsterdam:20240526T111500
DTEND;TZID=Europe/Amsterdam:20240526T190000
SUMMARY:Eindhoven - European campaign train to Maastricht
DESCRIPTION:Volt doet in 15 Europese landen mee aan de Europese Parlementsv
 erkiezingen. Natuurlijk organiseren we ook gezamenlijke campagneactiviteite
 n. Volt teams uit Duitsland (Keulen en Bonn)\, Nederland (Venlo en Eindhove
 n) en België (Brussel) komen naar Maastricht. Onderweg stoppen we op diver
 se plaatsen om flyers uit te delen en speeches te houden. Het plan voor het
  traject Eindhoven – Maastricht ziet er als volgt uit: 11:15 Verzamelen E
 indhoven 11:31 Vertrek Eindhoven  11:48 – 12:30 Weert 13:03 – 15:1
LOCATION:Eindhoven - NS Station
URL:https://voltnederland.org/agenda/eindhoven-european-campaign-train-to-m
 aastricht
END:VEVENT
END:VCALENDAR
