BEGIN:VCALENDAR
VERSION:2.0
PRODID:-//Volt Europa//Events//EN
CALSCALE:GREGORIAN
METHOD:PUBLISH
BEGIN:VEVENT
UID:eindhoven-europa-campagnedag-met-plakatschlange-1717228800@voltnederlan
 d.org
DTSTAMP:20260423T114226Z
DTSTART;TZID=Europe/Amsterdam:20240601T100000
DTEND;TZID=Europe/Amsterdam:20240601T180000
SUMMARY:Eindhoven - Europa campagnedag met Plakatschlange!
DESCRIPTION:Op 1 juni 2024 is onze grote Volt campagnedag in Eindhoven.  Ve
 rzamelpunt is het Volt paviljoen op het 18 Septemberplein. Vanaf 9 uur zijn
  we daar al aanwezig. Vanaf 10 uur gaan we met verschillende teams op pad i
 n de wijken of in de regio. Rond 15.30 uur verzamelen we weer op het 18 Sep
 temberplein voor onze beroemde Volt Plakatschlange! We lopen met muziek en 
 Plakaten een mooi rondje door het centrum.  Bram Kamp en andere Volt kandid
 aten voor het Europees Parlement zullen aanwezig zijn en korte
LOCATION:Eindhoven\, 18 Septemberplein
URL:https://voltnederland.org/agenda/eindhoven-europa-campagnedag-met-plaka
 tschlange
END:VEVENT
END:VCALENDAR
