BEGIN:VCALENDAR
VERSION:2.0
PRODID:-//Volt Europa//Events//EN
CALSCALE:GREGORIAN
METHOD:PUBLISH
BEGIN:VEVENT
UID:eindhoven-dutch-design-week-campagneweekend-1-1760774400@voltnederland.
 org
DTSTAMP:20260423T142616Z
DTSTART;TZID=Europe/Amsterdam:20251018T100000
DTEND;TZID=Europe/Amsterdam:20251018T170000
SUMMARY:Eindhoven - Dutch Design Week - campagneweekend (Duplicated)
DESCRIPTION:Van 18 t/m 26 oktober is het in Eindhoven Dutch Design Week.  D
 it is een van de grootste design evenementen van Europa\, waar werk en conc
 epten worden gepresenteerd van ruim 2600 ontwerpers aan meer dan 350.000 be
 zoekers uit binnen- en buitenland.  En natuurlijk gaan we hier met Volt ook
  campagne voeren. Het liefst ook met Volters uit de rest van Europa. Op zat
 erdag 18 oktober staan we in ieder geval de hele dag met een grote stand in
  het centrum op het ’18 September’ plein. Van daaruit zullen di
LOCATION:Eindhoven\, 18 Septemberplein\, 5611AJ Eindhoven
URL:https://voltnederland.org/brabant/agenda/eindhoven-dutch-design-week-ca
 mpagneweekend-1
END:VEVENT
END:VCALENDAR
