BEGIN:VCALENDAR
VERSION:2.0
PRODID:-//Volt Europa//Events//EN
CALSCALE:GREGORIAN
METHOD:PUBLISH
BEGIN:VEVENT
UID:eindhoven-digitalisering-ai-kans-of-bedreiging-1744219800@voltnederland
 .org
DTSTAMP:20260422T222941Z
DTSTART;TZID=Europe/Amsterdam:20250409T193000
DTEND;TZID=Europe/Amsterdam:20250409T213000
SUMMARY:Eindhoven: Digitalisering\, AI: kans of bedreiging?
DESCRIPTION:Digitalisering: AI\, kans of bedreiging? Het beleidsteam Digita
 lisering van Volt Europa\, Digicom\, geeft op 9 april een inleiding over Ar
 tificial Intelligence\, kunstmatige intelligentie. Wat is het\, wat kan het
  en wat kunnen gevolgen zijn op Europees en lokaal niveau? Welke grenzen st
 ellen wij? Hierover gaan we ook onderling in discussie. Net als iedere maan
 d ook op het programma: nieuws uit de Eindhovense Volt fractie en politiek 
 nieuws uit de rest van Europa. Van harte welkom! ----- Digitalisati
LOCATION:Eindhoven\, Theaterzaal boven café 't Rozenknopje\, Hoogstraat 59
 \, 5615PA  Eindhoven
URL:https://voltnederland.org/agenda/eindhoven-digitalisering-ai-kans-of-be
 dreiging
END:VEVENT
END:VCALENDAR
