BEGIN:VCALENDAR
VERSION:2.0
PRODID:-//Volt Europa//Events//EN
CALSCALE:GREGORIAN
METHOD:PUBLISH
BEGIN:VEVENT
UID:eindhoven-congres-zuid-oost-brabant-en-volt-1-jaar-in-de-raad-169555680
 0@voltnederland.org
DTSTAMP:20260423T114247Z
DTSTART;TZID=Europe/Amsterdam:20230924T140000
DTEND;TZID=Europe/Amsterdam:20230924T173000
SUMMARY:Eindhoven - Congres Zuid-Oost Brabant en Volt 1 jaar in de Raad
DESCRIPTION:
LOCATION:Eindhoven - Strijp S - Plug-in-City
URL:https://voltnederland.org/agenda/eindhoven-congres-zuid-oost-brabant-en
 -volt-1-jaar-in-de-raad
END:VEVENT
END:VCALENDAR
