BEGIN:VCALENDAR
VERSION:2.0
PRODID:-//Volt Europa//Events//EN
CALSCALE:GREGORIAN
METHOD:PUBLISH
BEGIN:VEVENT
UID:eindhoven-campagne-acties-laatste-sprint-tot-6-juni-1717148700@voltnede
 rland.org
DTSTAMP:20260423T114135Z
DTSTART;TZID=Europe/Amsterdam:20240531T114500
DTEND;TZID=Europe/Amsterdam:20240606T230000
SUMMARY:Eindhoven - Campagne acties - laatste sprint tot 6 juni
DESCRIPTION:In de laatste week voor de verkiezingen trekken we een eindspri
 nt van de campagne. Iedere dag zijn we ergens te zien in Eindhoven.  Vrijda
 g 31 mei 2024 Tussen 11.45 en 13.15 uur staan we op de High Tech Campus\, o
 p het middenpad ter hoogte van de Subway. Van 15 – 18 uur staan we aan de
  noordkant van het Centraal Station van Eindhoven en geven we de weekendgan
 gers mooi leesvoer mee voor in de trein. Zaterdag 1 juni 2024 Dit is onze g
 rote campagnedag op het 18 Septemberplein in Eindhoven. Het Volt 
LOCATION:Eindhoven - diverse plekken (zie beschrijving)
URL:https://voltnederland.org/agenda/eindhoven-campagne-acties-laatste-spri
 nt-tot-6-juni
END:VEVENT
END:VCALENDAR
