BEGIN:VCALENDAR
VERSION:2.0
PRODID:-//Volt Europa//Events//EN
CALSCALE:GREGORIAN
METHOD:PUBLISH
BEGIN:VEVENT
UID:eindhoven-best-sint-oedenrode-son-en-breugel-campagne-fietstocht-171662
 5800@voltnederland.org
DTSTAMP:20260423T023512Z
DTSTART;TZID=Europe/Amsterdam:20240525T103000
DTEND;TZID=Europe/Amsterdam:20240525T173000
SUMMARY:Eindhoven\, Best\, Sint-Oedenrode\, Son en Breugel - Campagne fiets
 tocht
DESCRIPTION:Op zaterdag 25 mei 2024 fietsen we met Volt een rondje door Zui
 doost-Brabant!  De planning is als volgt:  10.00 verzamelen op St. Trudople
 in in Eindhoven: flyeren en bevestigen Volt vlaggen op fietsen 10.30 Vertre
 k richting Best 11.15 Flyeren Centrum Best 12.15 Vertrek naar Sint-Oedenrod
 e 13.00 Flyeren Centrum Sint-Oedenrode 14.30 Vertrek naar Son en Breugel 15
 .15 Flyeren Centrum Son en Breugel 16.00 Vertrek naar Eindhoven 17.00 Terug
  op St. Trudoplein Onze Volt EP2024 kandidaat uit Brabant\, Bra
LOCATION:Eindhoven - Sint-Trudoplein\, 5616 RC Eindhoven
URL:https://voltnederland.org/agenda/eindhoven-best-sint-oedenrode-son-en-b
 reugel-campagne-fietstocht
END:VEVENT
END:VCALENDAR
