BEGIN:VCALENDAR
VERSION:2.0
PRODID:-//Volt Europa//Events//EN
CALSCALE:GREGORIAN
METHOD:PUBLISH
BEGIN:VEVENT
UID:eindhoven-basisinkomen-eenvoud-en-zekerheid-meet-up-1757525400@voltnede
 rland.org
DTSTAMP:20260423T114135Z
DTSTART;TZID=Europe/Amsterdam:20250910T193000
DTEND;TZID=Europe/Amsterdam:20250910T213000
SUMMARY:Eindhoven: Basisinkomen – Eenvoud en zekerheid – meet-up
DESCRIPTION:Tijdens de meet-up van 10 september duiken we dieper in het ond
 erwerp Basisinkomen en we gaan er over in debat. Marja Brouwer en Heleen Ti
 ms van de Volt werkgroep presenteren de ins and outs van het beleidsvoorste
 l ‘Eenvoud en zekerheid’ over het basisinkomen. En daarna gaan we hiero
 ver met elkaar in debat. En natuurlijk ook op de agenda: Volt nieuws uit Ei
 ndhoven en de rest van Europa. Het programma: 19.30 inloop 20.00 start prog
 ramma 21.30 formeel einde en start borrel met napraten ------ Duri
LOCATION:Eindhoven - theaterzaal boven café 't Rozenknopje\, Hoogstraat 59
 \, 5615PA  Eindhoven
URL:https://voltnederland.org/agenda/eindhoven-basisinkomen-eenvoud-en-zeke
 rheid-meet-up
END:VEVENT
END:VCALENDAR
