BEGIN:VCALENDAR
VERSION:2.0
PRODID:-//Volt Europa//Events//EN
CALSCALE:GREGORIAN
METHOD:PUBLISH
BEGIN:VEVENT
UID:eindejaarsborrel-volt-rivierenland-1702666800@voltnederland.org
DTSTAMP:20260423T102046Z
DTSTART;TZID=Europe/Amsterdam:20231215T200000
DTEND;TZID=Europe/Amsterdam:20231215T220000
SUMMARY:Eindejaarsborrel Volt Rivierenland
DESCRIPTION:Nadat we hopelijk allemaal een beetje bijgekomen zijn van de ve
 rkiezingen\, willen wij graag onze positieve\, paarse blik weer op de toeko
 mst richten. Wij willen jullie daarom allemaal graag uitnodigen voor een bo
 rrel van Volt Rivierenland bij Una Volta in Culemborg (in de Gelderlandfabr
 iek naast het station). Wij zouden het leuk vinden om iedereen weer even pe
 rsoonlijk te zien en natuurlijk kunnen we praten over de uitslag en hoe wij
  het Rivierenland (en Nederland) volgend jaar weer paarser en pr
LOCATION:Una Volta\, Stationsweg 7\, 4101 NG Culemborg
URL:https://voltnederland.org/agenda/eindejaarsborrel-volt-rivierenland
END:VEVENT
END:VCALENDAR
